View In:
ArcGIS JavaScript
ArcGIS Online Map Viewer
ArcGIS Earth
ArcGIS Pro
Service Description:
Map Name: Layers
Legend
All Layers and Tables
Dynamic Legend
Dynamic All Layers
Layers:
Description:
Service Item Id: 289b0ccf819d4a0daf105138ebacfc42
Copyright Text:
Spatial Reference:
102100
(3857)
Single Fused Map Cache: true
Tile Info:
- Height: 256
- Width: 256
- DPI: 96
-
Levels of Detail: 20
-
Level ID: 0
[ Start Tile, End Tile ]
- Resolution: 156543.03392796547
- Scale: 5.91657527591424E8
-
Level ID: 1
[ Start Tile, End Tile ]
- Resolution: 78271.51696398274
- Scale: 2.95828763795712E8
-
Level ID: 2
[ Start Tile, End Tile ]
- Resolution: 39135.75848199137
- Scale: 1.47914381897856E8
-
Level ID: 3
[ Start Tile, End Tile ]
- Resolution: 19567.879240995684
- Scale: 7.3957190948928E7
-
Level ID: 4
[ Start Tile, End Tile ]
- Resolution: 9783.939620497842
- Scale: 3.6978595474464E7
-
Level ID: 5
[ Start Tile, End Tile ]
- Resolution: 4891.969810248921
- Scale: 1.8489297737232E7
-
Level ID: 10
[ Start Tile, End Tile ]
- Resolution: 152.87405657027878
- Scale: 577790.5542885
-
Level ID: 11
[ Start Tile, End Tile ]
- Resolution: 76.43702828513939
- Scale: 288895.27714425
-
Level ID: 12
[ Start Tile, End Tile ]
- Resolution: 38.218514142569695
- Scale: 144447.638572125
-
Level ID: 13
[ Start Tile, End Tile ]
- Resolution: 19.109257071284848
- Scale: 72223.8192860625
-
Level ID: 14
[ Start Tile, End Tile ]
- Resolution: 9.554628535642424
- Scale: 36111.90964303125
-
Level ID: 15
[ Start Tile, End Tile ]
- Resolution: 4.777314267821212
- Scale: 18055.954821515625
-
Level ID: 16
[ Start Tile, End Tile ]
- Resolution: 2.388657133910606
- Scale: 9027.977410757812
-
Level ID: 19
[ Start Tile, End Tile ]
- Resolution: 0.2985821417468356
- Scale: 1128.497176375
- Format: JPEG
- Compression Quality: 75.0
- Origin: X: -2.0037508342787E7
Y: 2.0037508342787E7
- Spatial Reference: 102100
(3857)
Storage Info:
- Storage Format: esriMapCacheStorageModeExploded
- Packet Size: 0
Initial Extent:
XMin: 3212407.2319548572
YMin: 5020858.197143054
XMax: 3237926.3454930843
YMax: 5030264.153454967
Spatial Reference: 102100
Full Extent:
XMin: 3037504.972522293
YMin: 4888381.401049468
XMax: 3440326.5022051167
YMax: 5158772.175784232
Spatial Reference: 102100
Units: esriMeters
Supported Image Format Types: PNG32,PNG24,PNG,JPG,DIB,TIFF,EMF,PS,PDF,GIF,SVG,SVGZ,BMP
Document Info:
Title:
Author:
Comments:
Subject:
Category:
Keywords:
AntialiasingMode: None
TextAntialiasingMode: Force
Supports Dynamic Layers: true
MaxRecordCount: 1000
MaxImageHeight: 4096
MaxImageWidth: 4096
Supported Query Formats: JSON, geoJSON, PBF
Supports Query Data Elements: true
Min Scale: 1155581.108577
Max Scale: 1128.497176375
Supports Datum Transformation: true
Child Resources:
Info
Dynamic Layer
Supported Operations:
Export Map
Identify
QueryLegends
QueryDomains
Find
Return Updates