{
 "currentVersion": 11.3,
 "cimVersion": "3.3.0",
 "serviceDescription": "",
 "mapName": "Layers",
 "description": "",
 "copyrightText": "",
 "supportsDynamicLayers": true,
 "layers": [
  {
   "id": 0,
   "name": "istanbul",
   "parentLayerId": -1,
   "defaultVisibility": true,
   "subLayerIds": null,
   "minScale": 0,
   "maxScale": 0,
   "type": "Feature Layer",
   "geometryType": "esriGeometryPolygon",
   "supportsDynamicLegends": true
  }
 ],
 "tables": [],
 "spatialReference": {
  "wkid": 102100,
  "latestWkid": 3857,
  "xyTolerance": 0.001,
  "zTolerance": 0.001,
  "mTolerance": 0.001,
  "falseX": -20037700,
  "falseY": -30241100,
  "xyUnits": 1.4892314192838538E8,
  "falseZ": -100000,
  "zUnits": 10000,
  "falseM": -100000,
  "mUnits": 10000
 },
 "singleFusedMapCache": true,
 "tileInfo": {
  "rows": 256,
  "cols": 256,
  "dpi": 96,
  "format": "JPEG",
  "compressionQuality": 75,
  "origin": {
   "x": -2.0037508342787E7,
   "y": 2.0037508342787E7
  },
  "spatialReference": {
   "wkid": 102100,
   "latestWkid": 3857,
   "xyTolerance": 0.001,
   "zTolerance": 2.0E-4,
   "mTolerance": 2.0E-4,
   "falseX": -20037700,
   "falseY": -30241100,
   "xyUnits": 1.4892314192838538E8,
   "falseZ": -100000,
   "zUnits": 10000,
   "falseM": -100000,
   "mUnits": 10000
  },
  "lods": [
   {
    "level": 0,
    "resolution": 156543.03392796547,
    "scale": 5.91657527591424E8
   },
   {
    "level": 1,
    "resolution": 78271.51696398274,
    "scale": 2.95828763795712E8
   },
   {
    "level": 2,
    "resolution": 39135.75848199137,
    "scale": 1.47914381897856E8
   },
   {
    "level": 3,
    "resolution": 19567.879240995684,
    "scale": 7.3957190948928E7
   },
   {
    "level": 4,
    "resolution": 9783.939620497842,
    "scale": 3.6978595474464E7
   },
   {
    "level": 5,
    "resolution": 4891.969810248921,
    "scale": 1.8489297737232E7
   },
   {
    "level": 6,
    "resolution": 2445.9849051244605,
    "scale": 9244648.868616
   },
   {
    "level": 7,
    "resolution": 1222.9924525622303,
    "scale": 4622324.434308
   },
   {
    "level": 8,
    "resolution": 611.4962262811151,
    "scale": 2311162.217154
   },
   {
    "level": 9,
    "resolution": 305.74811314055756,
    "scale": 1155581.108577
   },
   {
    "level": 10,
    "resolution": 152.87405657027878,
    "scale": 577790.5542885
   },
   {
    "level": 11,
    "resolution": 76.43702828513939,
    "scale": 288895.27714425
   },
   {
    "level": 12,
    "resolution": 38.218514142569695,
    "scale": 144447.638572125
   },
   {
    "level": 13,
    "resolution": 19.109257071284848,
    "scale": 72223.8192860625
   },
   {
    "level": 14,
    "resolution": 9.554628535642424,
    "scale": 36111.90964303125
   },
   {
    "level": 15,
    "resolution": 4.777314267821212,
    "scale": 18055.954821515625
   },
   {
    "level": 16,
    "resolution": 2.388657133910606,
    "scale": 9027.977410757812
   },
   {
    "level": 17,
    "resolution": 1.1943285669873425,
    "scale": 4513.9887055
   },
   {
    "level": 18,
    "resolution": 0.5971642834936712,
    "scale": 2256.99435275
   },
   {
    "level": 19,
    "resolution": 0.2985821417468356,
    "scale": 1128.497176375
   }
  ]
 },
 "storageInfo": {
  "storageFormat": "esriMapCacheStorageModeExploded",
  "packetSize": 0
 },
 "initialExtent": {
  "xmin": 3212407.2319548572,
  "ymin": 5020858.197143054,
  "xmax": 3237926.3454930843,
  "ymax": 5030264.153454967,
  "spatialReference": {
   "cs": "pcs",
   "wkid": 102100
  }
 },
 "fullExtent": {
  "xmin": 3037504.972522293,
  "ymin": 4888381.401049468,
  "xmax": 3440326.5022051167,
  "ymax": 5158772.175784232,
  "spatialReference": {
   "cs": "pcs",
   "wkid": 102100
  }
 },
 "datesInUnknownTimezone": false,
 "minScale": 1155581.108577,
 "maxScale": 1128.497176375,
 "units": "esriMeters",
 "supportedImageFormatTypes": "PNG32,PNG24,PNG,JPG,DIB,TIFF,EMF,PS,PDF,GIF,SVG,SVGZ,BMP",
 "documentInfo": {
  "Title": "",
  "Author": "",
  "Comments": "",
  "Subject": "",
  "Category": "",
  "Version": "10.1",
  "AntialiasingMode": "None",
  "TextAntialiasingMode": "Force",
  "Keywords": ""
 },
 "supportsQueryDomains": true,
 "capabilities": "Map,Query,Data",
 "supportedQueryFormats": "JSON, geoJSON, PBF",
 "hasVersionedData": true,
 "exportTilesAllowed": false,
 "referenceScale": 0.0,
 "supportsDatumTransformation": true,
 "archivingInfo": {
  "supportsHistoricMoment": false
 },
 "supportsClipping": true,
 "supportsSpatialFilter": true,
 "supportsTimeRelation": true,
 "supportsQueryDataElements": true,
 "mapUnits": {
  "uwkid": 9001
 },
 "maxRecordCount": 1000,
 "maxImageHeight": 4096,
 "maxImageWidth": 4096,
 "supportedExtensions": "",
 "serviceItemId": "289b0ccf819d4a0daf105138ebacfc42"
}
